BEGIN:VCALENDAR
VERSION:2.0
PRODID:-//Rowy - ECPv6.15.20//NONSGML v1.0//EN
CALSCALE:GREGORIAN
METHOD:PUBLISH
X-ORIGINAL-URL:https://erowy.pl
X-WR-CALDESC:Wydarzenia dla Rowy
REFRESH-INTERVAL;VALUE=DURATION:PT1H
X-Robots-Tag:noindex
X-PUBLISHED-TTL:PT1H
BEGIN:VTIMEZONE
TZID:Europe/Warsaw
BEGIN:DAYLIGHT
TZOFFSETFROM:+0100
TZOFFSETTO:+0200
TZNAME:CEST
DTSTART:20180325T010000
END:DAYLIGHT
BEGIN:STANDARD
TZOFFSETFROM:+0200
TZOFFSETTO:+0100
TZNAME:CET
DTSTART:20181028T010000
END:STANDARD
BEGIN:DAYLIGHT
TZOFFSETFROM:+0100
TZOFFSETTO:+0200
TZNAME:CEST
DTSTART:20190331T010000
END:DAYLIGHT
BEGIN:STANDARD
TZOFFSETFROM:+0200
TZOFFSETTO:+0100
TZNAME:CET
DTSTART:20191027T010000
END:STANDARD
BEGIN:DAYLIGHT
TZOFFSETFROM:+0100
TZOFFSETTO:+0200
TZNAME:CEST
DTSTART:20200329T010000
END:DAYLIGHT
BEGIN:STANDARD
TZOFFSETFROM:+0200
TZOFFSETTO:+0100
TZNAME:CET
DTSTART:20201025T010000
END:STANDARD
END:VTIMEZONE
BEGIN:VEVENT
DTSTART;TZID=Europe/Warsaw:20190725T213000
DTEND;TZID=Europe/Warsaw:20190725T233000
DTSTAMP:20260421T153252
CREATED:20190720T202220Z
LAST-MODIFIED:20190720T202220Z
UID:54-1564090200-1564097400@erowy.pl
SUMMARY:Kino na leżakach
DESCRIPTION:Gmina Ustka oraz Centrum Kultury Gminy Ustka zapraszają na kolejne edycje cyklu: Kino na leżakach \nKino na leżakach\nUwaga! Oglądanie filmu w plenerze uwarunkowane warunkami pogodowymi.
URL:https://erowy.pl/wydarzenia/kino-na-lezakach/
LOCATION:Park Kultury\, ul. Słoneczna\, Rowy\, pomorskie\, 76-212\, Polska
CATEGORIES:Kultura
ATTACH;FMTTYPE=image/jpeg:https://erowy.pl/wp-content/uploads/2019/07/kino-na-lezakach.jpg
END:VEVENT
END:VCALENDAR